BEGIN:VCALENDAR
VERSION:2.0
PRODID:-//Ossis - ECPv6.15.19//NONSGML v1.0//EN
CALSCALE:GREGORIAN
METHOD:PUBLISH
X-WR-CALNAME:Ossis
X-ORIGINAL-URL:https://www.ossis.com.br
X-WR-CALDESC:Eventos para Ossis
REFRESH-INTERVAL;VALUE=DURATION:PT1H
X-Robots-Tag:noindex
X-PUBLISHED-TTL:PT1H
BEGIN:VTIMEZONE
TZID:America/Sao_Paulo
BEGIN:STANDARD
TZOFFSETFROM:-0300
TZOFFSETTO:-0300
TZNAME:-03
DTSTART:20250101T000000
END:STANDARD
END:VTIMEZONE
BEGIN:VEVENT
DTSTART;VALUE=DATE:20260716
DTEND;VALUE=DATE:20260718
DTSTAMP:20260423T223034
CREATED:20260408T141829Z
LAST-MODIFIED:20260408T142906Z
UID:10000005-1784160000-1784332799@www.ossis.com.br
SUMMARY:X Congresso Infecções Osteoarticulares do IOT
DESCRIPTION:
URL:https://www.ossis.com.br/evento/x-congresso-infeccoes-osteoarticulares-do-iot/
LOCATION:Centro de Convenções Rebouças – São Paulo – SP\, Av. Rebouças\, 600\, São Paulo\, São Paulo\, 05402-000\, Brazil
ATTACH;FMTTYPE=image/webp:https://www.ossis.com.br/wp-content/uploads/2026/04/2025-12-03.webp
ORGANIZER;CN="Ossis":MAILTO:contato@ossis.com.br
END:VEVENT
END:VCALENDAR