BEGIN:VCALENDAR
VERSION:2.0
PRODID:-//Ossis - ECPv6.15.19//NONSGML v1.0//EN
CALSCALE:GREGORIAN
METHOD:PUBLISH
X-WR-CALNAME:Ossis
X-ORIGINAL-URL:https://www.ossis.com.br
X-WR-CALDESC:Eventos para Ossis
REFRESH-INTERVAL;VALUE=DURATION:PT1H
X-Robots-Tag:noindex
X-PUBLISHED-TTL:PT1H
BEGIN:VTIMEZONE
TZID:America/Sao_Paulo
BEGIN:STANDARD
TZOFFSETFROM:-0300
TZOFFSETTO:-0300
TZNAME:-03
DTSTART:20250101T000000
END:STANDARD
END:VTIMEZONE
BEGIN:VEVENT
DTSTART;VALUE=DATE:20260409
DTEND;VALUE=DATE:20260412
DTSTAMP:20260423T222904
CREATED:20260408T140048Z
LAST-MODIFIED:20260408T150000Z
UID:10000002-1775692800-1775951999@www.ossis.com.br
SUMMARY:20º Congresso Brasileiro de Cirurgia do Joelho - CBCJ
DESCRIPTION:
URL:https://www.ossis.com.br/evento/20o-congresso-brasileiro-de-cirurgia-do-joelho-cbcj/
LOCATION:Royal Palm Hall – Campinas/SP\, R. Mns Luís Fernandes de Abreu\, 311 - Jardim do Lago\, Campinas\, São Paulo\, 13051-093\, Brazil
ATTACH;FMTTYPE=image/jpeg:https://www.ossis.com.br/wp-content/uploads/2026/04/Layer-1.jpg
ORGANIZER;CN="Ossis":MAILTO:contato@ossis.com.br
END:VEVENT
END:VCALENDAR